BEGIN:VCALENDAR
VERSION:2.0
PRODID:SchoolNow
CALSCALE:GREGORIAN
BEGIN:VEVENT
UID:808a6aaa-3deb-11f1-b334-0a58a9feac02
DTSTAMP:20260422T013510Z
SUMMARY:7th Grade CTE Field Trip
URL;VALUE=URI:https://www.uticaschools.org/schools/kennedy/calendar/9010228
 /7th-grade-cte-field-trip
DTSTART;VALUE=DATE:20260504
DTEND;VALUE=DATE:20260505
END:VEVENT
END:VCALENDAR
