BEGIN:VCALENDAR
VERSION:2.0
PRODID:SchoolNow
CALSCALE:GREGORIAN
BEGIN:VEVENT
UID:aeec0c44-3a55-11f1-af33-02343c9c8039
DTSTAMP:20260420T070011Z
SUMMARY:civil service bldg usage
URL;VALUE=URI:https://www.uticaschools.org/schools/donovan/calendar/9000456
 /civil-service-bldg-usage
DTSTART:20260509T120000Z
DTEND:20260509T183000Z
END:VEVENT
END:VCALENDAR
