BEGIN:VCALENDAR
VERSION:2.0
PRODID:SchoolNow
CALSCALE:GREGORIAN
BEGIN:VEVENT
UID:fc0e33da-217d-11f1-8da2-0a58a9feac02
DTSTAMP:20260330T195547Z
SUMMARY:AP US History Exam
URL;VALUE=URI:https://www.uticaschools.org/departments/guidance-counseling-
 services/calendar/8923030/ap-us-history-exam
DTSTART:20260508T120000Z
DTEND:20260508T150000Z
END:VEVENT
END:VCALENDAR
