BEGIN:VCALENDAR
VERSION:2.0
PRODID:SchoolNow
CALSCALE:GREGORIAN
BEGIN:VEVENT
UID:2479dde4-1f1a-11f1-821f-0a58a9feac02
DTSTAMP:20260330T195547Z
SUMMARY:NO SCHOOL
URL;VALUE=URI:https://www.uticaschools.org/departments/guidance-counseling-
 services/calendar/8915531/no-school
DTSTART:20260406T120000Z
DTEND:20260406T123000Z
END:VEVENT
END:VCALENDAR
